BEGIN:VCALENDAR
VERSION:2.0
PRODID:-//River Canyon School - ECPv6.15.20//NONSGML v1.0//EN
CALSCALE:GREGORIAN
METHOD:PUBLISH
X-WR-CALNAME:River Canyon School
X-ORIGINAL-URL:https://rivercanyonschool.com
X-WR-CALDESC:Events for River Canyon School
REFRESH-INTERVAL;VALUE=DURATION:PT1H
X-Robots-Tag:noindex
X-PUBLISHED-TTL:PT1H
BEGIN:VTIMEZONE
TZID:UTC
BEGIN:STANDARD
TZOFFSETFROM:+0000
TZOFFSETTO:+0000
TZNAME:UTC
DTSTART:20250101T000000
END:STANDARD
END:VTIMEZONE
BEGIN:VEVENT
DTSTART;VALUE=DATE:20261012
DTEND;VALUE=DATE:20261014
DTSTAMP:20260424T145411
CREATED:20260313T212949Z
LAST-MODIFIED:20260313T212949Z
UID:968-1791763200-1791935999@rivercanyonschool.com
SUMMARY:Parent-Teacher Conferences
DESCRIPTION:  \n 
URL:https://rivercanyonschool.com/event/parent-teacher-conferences-2/
END:VEVENT
END:VCALENDAR