BEGIN:VCALENDAR
VERSION:2.0
PRODID:-//River Canyon School - ECPv6.15.20//NONSGML v1.0//EN
CALSCALE:GREGORIAN
METHOD:PUBLISH
X-WR-CALNAME:River Canyon School
X-ORIGINAL-URL:https://rivercanyonschool.com
X-WR-CALDESC:Events for River Canyon School
REFRESH-INTERVAL;VALUE=DURATION:PT1H
X-Robots-Tag:noindex
X-PUBLISHED-TTL:PT1H
BEGIN:VTIMEZONE
TZID:UTC
BEGIN:STANDARD
TZOFFSETFROM:+0000
TZOFFSETTO:+0000
TZNAME:UTC
DTSTART:20250101T000000
END:STANDARD
END:VTIMEZONE
BEGIN:VEVENT
DTSTART;VALUE=DATE:20261120
DTEND;VALUE=DATE:20261121
DTSTAMP:20260424T163908
CREATED:20260313T213332Z
LAST-MODIFIED:20260313T213332Z
UID:973-1795132800-1795219199@rivercanyonschool.com
SUMMARY:Lantern Walk-Early Release for students (12:30pm):
DESCRIPTION:
URL:https://rivercanyonschool.com/event/lantern-walk-early-release-for-students-1230pm/
END:VEVENT
END:VCALENDAR