BEGIN:VCALENDAR
VERSION:2.0
PRODID:-//River Canyon School - ECPv6.15.20//NONSGML v1.0//EN
CALSCALE:GREGORIAN
METHOD:PUBLISH
X-WR-CALNAME:River Canyon School
X-ORIGINAL-URL:https://rivercanyonschool.com
X-WR-CALDESC:Events for River Canyon School
REFRESH-INTERVAL;VALUE=DURATION:PT1H
X-Robots-Tag:noindex
X-PUBLISHED-TTL:PT1H
BEGIN:VTIMEZONE
TZID:UTC
BEGIN:STANDARD
TZOFFSETFROM:+0000
TZOFFSETTO:+0000
TZNAME:UTC
DTSTART:20230101T000000
END:STANDARD
END:VTIMEZONE
BEGIN:VEVENT
DTSTART;VALUE=DATE:20260615
DTEND;VALUE=DATE:20260620
DTSTAMP:20260423T234503
CREATED:20250203T222459Z
LAST-MODIFIED:20250203T222459Z
UID:861-1781481600-1781913599@rivercanyonschool.com
SUMMARY:Potential Summer Camp Dates
DESCRIPTION:
URL:https://rivercanyonschool.com/event/potential-summer-camp-dates-3/
END:VEVENT
BEGIN:VEVENT
DTSTART;VALUE=DATE:20260608
DTEND;VALUE=DATE:20260613
DTSTAMP:20260423T234503
CREATED:20250203T222432Z
LAST-MODIFIED:20250203T222432Z
UID:859-1780876800-1781308799@rivercanyonschool.com
SUMMARY:Potential Summer Camp Dates
DESCRIPTION:
URL:https://rivercanyonschool.com/event/potential-summer-camp-dates-2/
END:VEVENT
BEGIN:VEVENT
DTSTART;VALUE=DATE:20260601
DTEND;VALUE=DATE:20260605
DTSTAMP:20260423T234503
CREATED:20250203T222350Z
LAST-MODIFIED:20250203T222350Z
UID:857-1780272000-1780617599@rivercanyonschool.com
SUMMARY:Potential Summer Camp Dates
DESCRIPTION:
URL:https://rivercanyonschool.com/event/potential-summer-camp-dates/
END:VEVENT
BEGIN:VEVENT
DTSTART;VALUE=DATE:20260515
DTEND;VALUE=DATE:20260516
DTSTAMP:20260423T234503
CREATED:20250203T222305Z
LAST-MODIFIED:20250203T222305Z
UID:855-1778803200-1778889599@rivercanyonschool.com
SUMMARY:Last Day of School
DESCRIPTION:
URL:https://rivercanyonschool.com/event/last-day-of-school/
END:VEVENT
BEGIN:VEVENT
DTSTART;TZID=UTC:20260502T110000
DTEND;TZID=UTC:20260502T130000
DTSTAMP:20260423T234503
CREATED:20250203T221432Z
LAST-MODIFIED:20250203T221432Z
UID:835-1777719600-1777726800@rivercanyonschool.com
SUMMARY:May Faire
DESCRIPTION:
URL:https://rivercanyonschool.com/event/may-faire-2/
END:VEVENT
BEGIN:VEVENT
DTSTART;VALUE=DATE:20260410
DTEND;VALUE=DATE:20260411
DTSTAMP:20260423T234503
CREATED:20250203T222240Z
LAST-MODIFIED:20250203T222240Z
UID:853-1775779200-1775865599@rivercanyonschool.com
SUMMARY:No School
DESCRIPTION:
URL:https://rivercanyonschool.com/event/no-school-8/
END:VEVENT
BEGIN:VEVENT
DTSTART;VALUE=DATE:20260401
DTEND;VALUE=DATE:20260402
DTSTAMP:20260423T234503
CREATED:20250203T221356Z
LAST-MODIFIED:20250203T221356Z
UID:833-1775001600-1775087999@rivercanyonschool.com
SUMMARY:Parent Evening
DESCRIPTION:
URL:https://rivercanyonschool.com/event/parent-evening-3/
END:VEVENT
BEGIN:VEVENT
DTSTART;VALUE=DATE:20260316
DTEND;VALUE=DATE:20260321
DTSTAMP:20260423T234503
CREATED:20250203T222153Z
LAST-MODIFIED:20250203T222153Z
UID:851-1773619200-1774051199@rivercanyonschool.com
SUMMARY:No School
DESCRIPTION:
URL:https://rivercanyonschool.com/event/no-school-7/
END:VEVENT
BEGIN:VEVENT
DTSTART;VALUE=DATE:20260316
DTEND;VALUE=DATE:20260317
DTSTAMP:20260423T234503
CREATED:20250203T222118Z
LAST-MODIFIED:20250203T222126Z
UID:849-1773619200-1773705599@rivercanyonschool.com
SUMMARY:No School
DESCRIPTION:
URL:https://rivercanyonschool.com/event/no-school-6/
END:VEVENT
BEGIN:VEVENT
DTSTART;VALUE=DATE:20260204
DTEND;VALUE=DATE:20260205
DTSTAMP:20260423T234503
CREATED:20250203T221322Z
LAST-MODIFIED:20250203T221322Z
UID:831-1770163200-1770249599@rivercanyonschool.com
SUMMARY:Parent Evening
DESCRIPTION:
URL:https://rivercanyonschool.com/event/parent-evening-2/
END:VEVENT
BEGIN:VEVENT
DTSTART;VALUE=DATE:20260119
DTEND;VALUE=DATE:20260120
DTSTAMP:20260423T234503
CREATED:20250203T222052Z
LAST-MODIFIED:20250203T222052Z
UID:847-1768780800-1768867199@rivercanyonschool.com
SUMMARY:No School
DESCRIPTION:
URL:https://rivercanyonschool.com/event/no-school-5/
END:VEVENT
BEGIN:VEVENT
DTSTART;VALUE=DATE:20251222
DTEND;VALUE=DATE:20260108
DTSTAMP:20260423T234503
CREATED:20250203T221805Z
LAST-MODIFIED:20250203T222017Z
UID:845-1766361600-1767830399@rivercanyonschool.com
SUMMARY:No School
DESCRIPTION:
URL:https://rivercanyonschool.com/event/no-school-4/
END:VEVENT
BEGIN:VEVENT
DTSTART;TZID=UTC:20251219T170000
DTEND;TZID=UTC:20251219T183000
DTSTAMP:20260423T234503
CREATED:20250203T221251Z
LAST-MODIFIED:20250203T221251Z
UID:829-1766163600-1766169000@rivercanyonschool.com
SUMMARY:Winter Spiral
DESCRIPTION:
URL:https://rivercanyonschool.com/event/winter-spiral/
END:VEVENT
BEGIN:VEVENT
DTSTART;VALUE=DATE:20251219
DTEND;VALUE=DATE:20251220
DTSTAMP:20260423T234503
CREATED:20250203T221644Z
LAST-MODIFIED:20250203T221644Z
UID:843-1766102400-1766188799@rivercanyonschool.com
SUMMARY:Half Day
DESCRIPTION:
URL:https://rivercanyonschool.com/event/half-day-6/
END:VEVENT
BEGIN:VEVENT
DTSTART;VALUE=DATE:20251203
DTEND;VALUE=DATE:20251204
DTSTAMP:20260423T234503
CREATED:20250203T221207Z
LAST-MODIFIED:20250203T221216Z
UID:827-1764720000-1764806399@rivercanyonschool.com
SUMMARY:Parent Evening Candle Dipping
DESCRIPTION:
URL:https://rivercanyonschool.com/event/parent-evening-candle-dipping/
END:VEVENT
BEGIN:VEVENT
DTSTART;VALUE=DATE:20251125
DTEND;VALUE=DATE:20251130
DTSTAMP:20260423T234503
CREATED:20250203T221615Z
LAST-MODIFIED:20250203T221615Z
UID:841-1764028800-1764460799@rivercanyonschool.com
SUMMARY:No School
DESCRIPTION:
URL:https://rivercanyonschool.com/event/no-school-3/
END:VEVENT
BEGIN:VEVENT
DTSTART;TZID=UTC:20251121T173000
DTEND;TZID=UTC:20251121T183000
DTSTAMP:20260423T234503
CREATED:20250203T221122Z
LAST-MODIFIED:20250203T221122Z
UID:825-1763746200-1763749800@rivercanyonschool.com
SUMMARY:Lantern Walk
DESCRIPTION:
URL:https://rivercanyonschool.com/event/lantern-walk/
END:VEVENT
BEGIN:VEVENT
DTSTART;VALUE=DATE:20251121
DTEND;VALUE=DATE:20251122
DTSTAMP:20260423T234503
CREATED:20250203T221545Z
LAST-MODIFIED:20250203T221545Z
UID:839-1763683200-1763769599@rivercanyonschool.com
SUMMARY:Half Day
DESCRIPTION:
URL:https://rivercanyonschool.com/event/half-day-5/
END:VEVENT
BEGIN:VEVENT
DTSTART;VALUE=DATE:20251103
DTEND;VALUE=DATE:20251104
DTSTAMP:20260423T234503
CREATED:20250203T221518Z
LAST-MODIFIED:20250203T221518Z
UID:837-1762128000-1762214399@rivercanyonschool.com
SUMMARY:Teacher Work Day No Classes
DESCRIPTION:
URL:https://rivercanyonschool.com/event/teacher-work-day-no-classes/
END:VEVENT
BEGIN:VEVENT
DTSTART;TZID=UTC:20251030T170000
DTEND;TZID=UTC:20251030T190000
DTSTAMP:20260423T234503
CREATED:20250203T221039Z
LAST-MODIFIED:20250203T221039Z
UID:823-1761843600-1761850800@rivercanyonschool.com
SUMMARY:Harvest Festival
DESCRIPTION:
URL:https://rivercanyonschool.com/event/harvest-festival/
END:VEVENT
BEGIN:VEVENT
DTSTART;VALUE=DATE:20251030
DTEND;VALUE=DATE:20251031
DTSTAMP:20260423T234503
CREATED:20250203T220346Z
LAST-MODIFIED:20250203T220346Z
UID:818-1761782400-1761868799@rivercanyonschool.com
SUMMARY:Half Day
DESCRIPTION:
URL:https://rivercanyonschool.com/event/half-day-4/
END:VEVENT
BEGIN:VEVENT
DTSTART;TZID=UTC:20250903T180000
DTEND;TZID=UTC:20250903T190000
DTSTAMP:20260423T234503
CREATED:20250203T220957Z
LAST-MODIFIED:20250203T221007Z
UID:821-1756922400-1756926000@rivercanyonschool.com
SUMMARY:Parent Evening
DESCRIPTION:
URL:https://rivercanyonschool.com/event/parent-evening/
END:VEVENT
BEGIN:VEVENT
DTSTART;VALUE=DATE:20250901
DTEND;VALUE=DATE:20250902
DTSTAMP:20260423T234503
CREATED:20250203T220318Z
LAST-MODIFIED:20250203T220318Z
UID:816-1756684800-1756771199@rivercanyonschool.com
SUMMARY:No School
DESCRIPTION:
URL:https://rivercanyonschool.com/event/no-school-2/
END:VEVENT
BEGIN:VEVENT
DTSTART;VALUE=DATE:20250819
DTEND;VALUE=DATE:20250820
DTSTAMP:20260423T234503
CREATED:20250203T220115Z
LAST-MODIFIED:20250203T220532Z
UID:814-1755561600-1755647999@rivercanyonschool.com
SUMMARY:Back to School Day
DESCRIPTION:
URL:https://rivercanyonschool.com/event/first-day-of-school-3/
END:VEVENT
BEGIN:VEVENT
DTSTART;VALUE=DATE:20250521
DTEND;VALUE=DATE:20250522
DTSTAMP:20260423T234503
CREATED:20240405T152533Z
LAST-MODIFIED:20240405T152533Z
UID:712-1747785600-1747871999@rivercanyonschool.com
SUMMARY:Last Day of School and Half Day
DESCRIPTION:
URL:https://rivercanyonschool.com/event/last-day-of-school-and-half-day/
END:VEVENT
BEGIN:VEVENT
DTSTART;TZID=UTC:20250503T110000
DTEND;TZID=UTC:20250503T130000
DTSTAMP:20260423T234503
CREATED:20240405T152505Z
LAST-MODIFIED:20240405T152505Z
UID:710-1746270000-1746277200@rivercanyonschool.com
SUMMARY:Mayfaire 11:00am to 1:00pm
DESCRIPTION:
URL:https://rivercanyonschool.com/event/mayfaire-1100am-to-100pm/
END:VEVENT
BEGIN:VEVENT
DTSTART;VALUE=DATE:20250503
DTEND;VALUE=DATE:20250504
DTSTAMP:20260423T234503
CREATED:20240405T152431Z
LAST-MODIFIED:20240405T152431Z
UID:708-1746230400-1746316799@rivercanyonschool.com
SUMMARY:Half Day
DESCRIPTION:
URL:https://rivercanyonschool.com/event/half-day-3/
END:VEVENT
BEGIN:VEVENT
DTSTART;VALUE=DATE:20250411
DTEND;VALUE=DATE:20250412
DTSTAMP:20260423T234503
CREATED:20240405T152349Z
LAST-MODIFIED:20240405T152349Z
UID:706-1744329600-1744415999@rivercanyonschool.com
SUMMARY:Parent Teacher Conferences
DESCRIPTION:
URL:https://rivercanyonschool.com/event/parent-teacher-conferences/
END:VEVENT
BEGIN:VEVENT
DTSTART;VALUE=DATE:20250317
DTEND;VALUE=DATE:20250322
DTSTAMP:20260423T234503
CREATED:20240405T152324Z
LAST-MODIFIED:20240405T152324Z
UID:704-1742169600-1742601599@rivercanyonschool.com
SUMMARY:Spring Break
DESCRIPTION:
URL:https://rivercanyonschool.com/event/spring-break-3/
END:VEVENT
BEGIN:VEVENT
DTSTART;VALUE=DATE:20241223
DTEND;VALUE=DATE:20250108
DTSTAMP:20260423T234503
CREATED:20240405T152251Z
LAST-MODIFIED:20240405T152251Z
UID:702-1734912000-1736294399@rivercanyonschool.com
SUMMARY:Winter Break
DESCRIPTION:
URL:https://rivercanyonschool.com/event/winter-break-3/
END:VEVENT
END:VCALENDAR