BEGIN:VCALENDAR
VERSION:2.0
PRODID:-//River Canyon School - ECPv6.15.20//NONSGML v1.0//EN
CALSCALE:GREGORIAN
METHOD:PUBLISH
X-WR-CALNAME:River Canyon School
X-ORIGINAL-URL:https://rivercanyonschool.com
X-WR-CALDESC:Events for River Canyon School
REFRESH-INTERVAL;VALUE=DURATION:PT1H
X-Robots-Tag:noindex
X-PUBLISHED-TTL:PT1H
BEGIN:VTIMEZONE
TZID:UTC
BEGIN:STANDARD
TZOFFSETFROM:+0000
TZOFFSETTO:+0000
TZNAME:UTC
DTSTART:20220101T000000
END:STANDARD
END:VTIMEZONE
BEGIN:VEVENT
DTSTART;VALUE=DATE:20241223
DTEND;VALUE=DATE:20250108
DTSTAMP:20260423T190010
CREATED:20240405T152251Z
LAST-MODIFIED:20240405T152251Z
UID:702-1734912000-1736294399@rivercanyonschool.com
SUMMARY:Winter Break
DESCRIPTION:
URL:https://rivercanyonschool.com/event/winter-break-3/
END:VEVENT
BEGIN:VEVENT
DTSTART;TZID=UTC:20241220T170000
DTEND;TZID=UTC:20241220T183000
DTSTAMP:20260423T190010
CREATED:20240405T152222Z
LAST-MODIFIED:20240405T152222Z
UID:700-1734714000-1734719400@rivercanyonschool.com
SUMMARY:Winter Spiral 5:00pm to 6:30pm
DESCRIPTION:
URL:https://rivercanyonschool.com/event/winter-spiral-500pm-to-630pm/
END:VEVENT
BEGIN:VEVENT
DTSTART;VALUE=DATE:20241220
DTEND;VALUE=DATE:20241221
DTSTAMP:20260423T190010
CREATED:20240405T152146Z
LAST-MODIFIED:20240405T152146Z
UID:698-1734652800-1734739199@rivercanyonschool.com
SUMMARY:Half Day of School
DESCRIPTION:
URL:https://rivercanyonschool.com/event/half-day-of-school-2/
END:VEVENT
BEGIN:VEVENT
DTSTART;VALUE=DATE:20241125
DTEND;VALUE=DATE:20241130
DTSTAMP:20260423T190010
CREATED:20240405T152118Z
LAST-MODIFIED:20240405T152118Z
UID:696-1732492800-1732924799@rivercanyonschool.com
SUMMARY:Thanksgiving Break No School
DESCRIPTION:
URL:https://rivercanyonschool.com/event/thanksgiving-break-no-school-2/
END:VEVENT
BEGIN:VEVENT
DTSTART;TZID=UTC:20241122T173000
DTEND;TZID=UTC:20241122T180000
DTSTAMP:20260423T190010
CREATED:20240405T152025Z
LAST-MODIFIED:20240405T152025Z
UID:694-1732296600-1732298400@rivercanyonschool.com
SUMMARY:Lantern Walk 5:30pm to 6:00pm
DESCRIPTION:
URL:https://rivercanyonschool.com/event/lantern-walk-530pm-to-600pm/
END:VEVENT
BEGIN:VEVENT
DTSTART;VALUE=DATE:20241122
DTEND;VALUE=DATE:20241123
DTSTAMP:20260423T190010
CREATED:20240405T151954Z
LAST-MODIFIED:20240405T151954Z
UID:692-1732233600-1732319999@rivercanyonschool.com
SUMMARY:Half Day of School
DESCRIPTION:
URL:https://rivercanyonschool.com/event/half-day-of-school/
END:VEVENT
BEGIN:VEVENT
DTSTART;VALUE=DATE:20241101
DTEND;VALUE=DATE:20241102
DTSTAMP:20260423T190010
CREATED:20240405T151712Z
LAST-MODIFIED:20240405T151712Z
UID:689-1730419200-1730505599@rivercanyonschool.com
SUMMARY:No School for Teacher Work Day
DESCRIPTION:
URL:https://rivercanyonschool.com/event/no-school-for-teacher-work-day/
END:VEVENT
BEGIN:VEVENT
DTSTART;VALUE=DATE:20241031
DTEND;VALUE=DATE:20241101
DTSTAMP:20260423T190010
CREATED:20240405T151648Z
LAST-MODIFIED:20240405T151648Z
UID:687-1730332800-1730419199@rivercanyonschool.com
SUMMARY:No School for Parent Teacher Conferences
DESCRIPTION:
URL:https://rivercanyonschool.com/event/no-school-for-parent-teacher-conferences/
END:VEVENT
BEGIN:VEVENT
DTSTART;TZID=UTC:20241030T170000
DTEND;TZID=UTC:20241030T190000
DTSTAMP:20260423T190010
CREATED:20240405T151624Z
LAST-MODIFIED:20240405T151624Z
UID:685-1730307600-1730314800@rivercanyonschool.com
SUMMARY:Harvest Festival 5:00-7:00pm
DESCRIPTION:
URL:https://rivercanyonschool.com/event/harvest-festival-500-700pm/
END:VEVENT
BEGIN:VEVENT
DTSTART;VALUE=DATE:20241030
DTEND;VALUE=DATE:20241031
DTSTAMP:20260423T190010
CREATED:20240405T151459Z
LAST-MODIFIED:20240405T151459Z
UID:682-1730246400-1730332799@rivercanyonschool.com
SUMMARY:Half Day
DESCRIPTION:
URL:https://rivercanyonschool.com/event/half-day-2/
END:VEVENT
BEGIN:VEVENT
DTSTART;VALUE=DATE:20240902
DTEND;VALUE=DATE:20240903
DTSTAMP:20260423T190010
CREATED:20240405T151431Z
LAST-MODIFIED:20240405T151823Z
UID:680-1725235200-1725321599@rivercanyonschool.com
SUMMARY:No School in Observance of Labor Day
DESCRIPTION:
URL:https://rivercanyonschool.com/event/school-closed-holidays/
END:VEVENT
BEGIN:VEVENT
DTSTART;VALUE=DATE:20240814
DTEND;VALUE=DATE:20240815
DTSTAMP:20260423T190010
CREATED:20240405T151359Z
LAST-MODIFIED:20240405T152630Z
UID:678-1723593600-1723679999@rivercanyonschool.com
SUMMARY:First Day of School-August 14
DESCRIPTION:
URL:https://rivercanyonschool.com/event/first-day-of-school-august-14/
END:VEVENT
BEGIN:VEVENT
DTSTART;VALUE=DATE:20240813
DTEND;VALUE=DATE:20240814
DTSTAMP:20260423T190010
CREATED:20240405T151303Z
LAST-MODIFIED:20240405T151303Z
UID:676-1723507200-1723593599@rivercanyonschool.com
SUMMARY:Back to School Open House
DESCRIPTION:
URL:https://rivercanyonschool.com/event/back-to-school-open-house/
END:VEVENT
BEGIN:VEVENT
DTSTART;VALUE=DATE:20240523
DTEND;VALUE=DATE:20240524
DTSTAMP:20260423T190010
CREATED:20230203T044212Z
LAST-MODIFIED:20230203T044212Z
UID:430-1716422400-1716508799@rivercanyonschool.com
SUMMARY:Half Day of School Release at 1:00 and Last Day of School
DESCRIPTION:
URL:https://rivercanyonschool.com/event/half-day-of-school-release-at-100-and-last-day-of-school/
END:VEVENT
BEGIN:VEVENT
DTSTART;VALUE=DATE:20240510
DTEND;VALUE=DATE:20240511
DTSTAMP:20260423T190010
CREATED:20230203T044110Z
LAST-MODIFIED:20230203T044110Z
UID:428-1715299200-1715385599@rivercanyonschool.com
SUMMARY:PTC No School
DESCRIPTION:
URL:https://rivercanyonschool.com/event/ptc-no-school-2/
END:VEVENT
BEGIN:VEVENT
DTSTART;TZID=UTC:20240427T110000
DTEND;TZID=UTC:20240427T130000
DTSTAMP:20260423T190010
CREATED:20230203T044036Z
LAST-MODIFIED:20230203T044036Z
UID:426-1714215600-1714222800@rivercanyonschool.com
SUMMARY:May Faire 11:00-1:00
DESCRIPTION:
URL:https://rivercanyonschool.com/event/may-faire-1100-100/
END:VEVENT
BEGIN:VEVENT
DTSTART;VALUE=DATE:20240426
DTEND;VALUE=DATE:20240427
DTSTAMP:20260423T190010
CREATED:20230203T044000Z
LAST-MODIFIED:20230203T044000Z
UID:424-1714089600-1714175999@rivercanyonschool.com
SUMMARY:Teacher Work Day No School
DESCRIPTION:
URL:https://rivercanyonschool.com/event/teacher-work-day-no-school-5/
END:VEVENT
BEGIN:VEVENT
DTSTART;VALUE=DATE:20240318
DTEND;VALUE=DATE:20240323
DTSTAMP:20260423T190010
CREATED:20230203T043927Z
LAST-MODIFIED:20230203T043927Z
UID:422-1710720000-1711151999@rivercanyonschool.com
SUMMARY:Spring Break
DESCRIPTION:
URL:https://rivercanyonschool.com/event/spring-break-2/
END:VEVENT
BEGIN:VEVENT
DTSTART;VALUE=DATE:20240219
DTEND;VALUE=DATE:20240220
DTSTAMP:20260423T190010
CREATED:20230203T043821Z
LAST-MODIFIED:20230203T043821Z
UID:420-1708300800-1708387199@rivercanyonschool.com
SUMMARY:No School for President’s Day
DESCRIPTION:
URL:https://rivercanyonschool.com/event/no-school-for-presidents-day/
END:VEVENT
BEGIN:VEVENT
DTSTART;VALUE=DATE:20240110
DTEND;VALUE=DATE:20240111
DTSTAMP:20260423T190011
CREATED:20230203T043754Z
LAST-MODIFIED:20230203T043754Z
UID:418-1704844800-1704931199@rivercanyonschool.com
SUMMARY:First Day back from Winter Break
DESCRIPTION:
URL:https://rivercanyonschool.com/event/first-day-back-from-winter-break/
END:VEVENT
BEGIN:VEVENT
DTSTART;VALUE=DATE:20240109
DTEND;VALUE=DATE:20240110
DTSTAMP:20260423T190011
CREATED:20230203T043725Z
LAST-MODIFIED:20230203T043725Z
UID:416-1704758400-1704844799@rivercanyonschool.com
SUMMARY:Teacher Work Day No School
DESCRIPTION:
URL:https://rivercanyonschool.com/event/teacher-work-day-no-school-4/
END:VEVENT
BEGIN:VEVENT
DTSTART;VALUE=DATE:20231222
DTEND;VALUE=DATE:20240104
DTSTAMP:20260423T190011
CREATED:20230203T043636Z
LAST-MODIFIED:20230203T043636Z
UID:414-1703203200-1704326399@rivercanyonschool.com
SUMMARY:Winter Break
DESCRIPTION:
URL:https://rivercanyonschool.com/event/winter-break-2/
END:VEVENT
BEGIN:VEVENT
DTSTART;TZID=UTC:20231221T170000
DTEND;TZID=UTC:20231221T190000
DTSTAMP:20260423T190011
CREATED:20230203T043506Z
LAST-MODIFIED:20230203T043506Z
UID:412-1703178000-1703185200@rivercanyonschool.com
SUMMARY:Winter Spiral 5:00pm
DESCRIPTION:
URL:https://rivercanyonschool.com/event/winter-spiral-500pm/
END:VEVENT
BEGIN:VEVENT
DTSTART;VALUE=DATE:20231221
DTEND;VALUE=DATE:20231222
DTSTAMP:20260423T190011
CREATED:20230203T043418Z
LAST-MODIFIED:20230203T043418Z
UID:410-1703116800-1703203199@rivercanyonschool.com
SUMMARY:Half Day release at 1:00pm
DESCRIPTION:
URL:https://rivercanyonschool.com/event/half-day-release-at-100pm-2/
END:VEVENT
BEGIN:VEVENT
DTSTART;VALUE=DATE:20231120
DTEND;VALUE=DATE:20231125
DTSTAMP:20260423T190011
CREATED:20230203T043346Z
LAST-MODIFIED:20230203T043346Z
UID:408-1700438400-1700870399@rivercanyonschool.com
SUMMARY:Thanksgiving Break No School
DESCRIPTION:
URL:https://rivercanyonschool.com/event/thanksgiving-break-no-school/
END:VEVENT
BEGIN:VEVENT
DTSTART;TZID=UTC:20231027T163000
DTEND;TZID=UTC:20231027T183000
DTSTAMP:20260423T190011
CREATED:20230203T043305Z
LAST-MODIFIED:20230203T043305Z
UID:406-1698424200-1698431400@rivercanyonschool.com
SUMMARY:Harvest Festival at 4:30pm
DESCRIPTION:
URL:https://rivercanyonschool.com/event/harvest-festival-at-430pm/
END:VEVENT
BEGIN:VEVENT
DTSTART;VALUE=DATE:20231027
DTEND;VALUE=DATE:20231028
DTSTAMP:20260423T190011
CREATED:20230203T043006Z
LAST-MODIFIED:20230203T043006Z
UID:404-1698364800-1698451199@rivercanyonschool.com
SUMMARY:Half Day release at 1:00pm
DESCRIPTION:
URL:https://rivercanyonschool.com/event/half-day-release-at-100pm/
END:VEVENT
BEGIN:VEVENT
DTSTART;VALUE=DATE:20231013
DTEND;VALUE=DATE:20231014
DTSTAMP:20260423T190011
CREATED:20230203T042927Z
LAST-MODIFIED:20230203T042927Z
UID:402-1697155200-1697241599@rivercanyonschool.com
SUMMARY:PTC (No School)
DESCRIPTION:
URL:https://rivercanyonschool.com/event/ptc-no-school/
END:VEVENT
BEGIN:VEVENT
DTSTART;VALUE=DATE:20231012
DTEND;VALUE=DATE:20231013
DTSTAMP:20260423T190011
CREATED:20230203T042851Z
LAST-MODIFIED:20230203T042851Z
UID:400-1697068800-1697155199@rivercanyonschool.com
SUMMARY:Teacher Work Day (No School)
DESCRIPTION:
URL:https://rivercanyonschool.com/event/teacher-work-day-no-school-3/
END:VEVENT
BEGIN:VEVENT
DTSTART;VALUE=DATE:20230904
DTEND;VALUE=DATE:20230905
DTSTAMP:20260423T190011
CREATED:20230203T042648Z
LAST-MODIFIED:20230203T042648Z
UID:398-1693785600-1693871999@rivercanyonschool.com
SUMMARY:No School for Labor Day
DESCRIPTION:
URL:https://rivercanyonschool.com/event/no-school-for-labor-day/
END:VEVENT
END:VCALENDAR