BEGIN:VCALENDAR
VERSION:2.0
PRODID:-//River Canyon School - ECPv6.15.20//NONSGML v1.0//EN
CALSCALE:GREGORIAN
METHOD:PUBLISH
X-ORIGINAL-URL:https://rivercanyonschool.com
X-WR-CALDESC:Events for River Canyon School
REFRESH-INTERVAL;VALUE=DURATION:PT1H
X-Robots-Tag:noindex
X-PUBLISHED-TTL:PT1H
BEGIN:VTIMEZONE
TZID:UTC
BEGIN:STANDARD
TZOFFSETFROM:+0000
TZOFFSETTO:+0000
TZNAME:UTC
DTSTART:20240101T000000
END:STANDARD
END:VTIMEZONE
BEGIN:VEVENT
DTSTART;VALUE=DATE:20251030
DTEND;VALUE=DATE:20251031
DTSTAMP:20260424T012213
CREATED:20250203T220346Z
LAST-MODIFIED:20250203T220346Z
UID:818-1761782400-1761868799@rivercanyonschool.com
SUMMARY:Half Day
DESCRIPTION:
URL:https://rivercanyonschool.com/event/half-day-4/
END:VEVENT
BEGIN:VEVENT
DTSTART;TZID=UTC:20251030T170000
DTEND;TZID=UTC:20251030T190000
DTSTAMP:20260424T012213
CREATED:20250203T221039Z
LAST-MODIFIED:20250203T221039Z
UID:823-1761843600-1761850800@rivercanyonschool.com
SUMMARY:Harvest Festival
DESCRIPTION:
URL:https://rivercanyonschool.com/event/harvest-festival/
END:VEVENT
END:VCALENDAR