BEGIN:VCALENDAR
VERSION:2.0
PRODID:-//River Canyon School - ECPv6.15.20//NONSGML v1.0//EN
CALSCALE:GREGORIAN
METHOD:PUBLISH
X-ORIGINAL-URL:https://rivercanyonschool.com
X-WR-CALDESC:Events for River Canyon School
REFRESH-INTERVAL;VALUE=DURATION:PT1H
X-Robots-Tag:noindex
X-PUBLISHED-TTL:PT1H
BEGIN:VTIMEZONE
TZID:UTC
BEGIN:STANDARD
TZOFFSETFROM:+0000
TZOFFSETTO:+0000
TZNAME:UTC
DTSTART:20240101T000000
END:STANDARD
END:VTIMEZONE
BEGIN:VEVENT
DTSTART;VALUE=DATE:20251203
DTEND;VALUE=DATE:20251204
DTSTAMP:20260423T234028
CREATED:20250203T221207Z
LAST-MODIFIED:20250203T221216Z
UID:827-1764720000-1764806399@rivercanyonschool.com
SUMMARY:Parent Evening Candle Dipping
DESCRIPTION:
URL:https://rivercanyonschool.com/event/parent-evening-candle-dipping/
END:VEVENT
BEGIN:VEVENT
DTSTART;VALUE=DATE:20251219
DTEND;VALUE=DATE:20251220
DTSTAMP:20260423T234028
CREATED:20250203T221644Z
LAST-MODIFIED:20250203T221644Z
UID:843-1766102400-1766188799@rivercanyonschool.com
SUMMARY:Half Day
DESCRIPTION:
URL:https://rivercanyonschool.com/event/half-day-6/
END:VEVENT
BEGIN:VEVENT
DTSTART;TZID=UTC:20251219T170000
DTEND;TZID=UTC:20251219T183000
DTSTAMP:20260423T234028
CREATED:20250203T221251Z
LAST-MODIFIED:20250203T221251Z
UID:829-1766163600-1766169000@rivercanyonschool.com
SUMMARY:Winter Spiral
DESCRIPTION:
URL:https://rivercanyonschool.com/event/winter-spiral/
END:VEVENT
BEGIN:VEVENT
DTSTART;VALUE=DATE:20251222
DTEND;VALUE=DATE:20260108
DTSTAMP:20260423T234028
CREATED:20250203T221805Z
LAST-MODIFIED:20250203T222017Z
UID:845-1766361600-1767830399@rivercanyonschool.com
SUMMARY:No School
DESCRIPTION:
URL:https://rivercanyonschool.com/event/no-school-4/
END:VEVENT
END:VCALENDAR