BEGIN:VCALENDAR
VERSION:2.0
PRODID:-//River Canyon School - ECPv6.15.20//NONSGML v1.0//EN
CALSCALE:GREGORIAN
METHOD:PUBLISH
X-WR-CALNAME:River Canyon School
X-ORIGINAL-URL:https://rivercanyonschool.com
X-WR-CALDESC:Events for River Canyon School
REFRESH-INTERVAL;VALUE=DURATION:PT1H
X-Robots-Tag:noindex
X-PUBLISHED-TTL:PT1H
BEGIN:VTIMEZONE
TZID:UTC
BEGIN:STANDARD
TZOFFSETFROM:+0000
TZOFFSETTO:+0000
TZNAME:UTC
DTSTART:20250101T000000
END:STANDARD
END:VTIMEZONE
BEGIN:VEVENT
DTSTART;TZID=UTC:20260502T110000
DTEND;TZID=UTC:20260502T130000
DTSTAMP:20260423T172338
CREATED:20250203T221432Z
LAST-MODIFIED:20250203T221432Z
UID:835-1777719600-1777726800@rivercanyonschool.com
SUMMARY:May Faire
DESCRIPTION:
URL:https://rivercanyonschool.com/event/may-faire-2/
END:VEVENT
BEGIN:VEVENT
DTSTART;VALUE=DATE:20260515
DTEND;VALUE=DATE:20260516
DTSTAMP:20260423T172338
CREATED:20250203T222305Z
LAST-MODIFIED:20250203T222305Z
UID:855-1778803200-1778889599@rivercanyonschool.com
SUMMARY:Last Day of School
DESCRIPTION:
URL:https://rivercanyonschool.com/event/last-day-of-school/
END:VEVENT
END:VCALENDAR