BEGIN:VCALENDAR
VERSION:2.0
PRODID:-//River Canyon School - ECPv6.15.20//NONSGML v1.0//EN
CALSCALE:GREGORIAN
METHOD:PUBLISH
X-ORIGINAL-URL:https://rivercanyonschool.com
X-WR-CALDESC:Events for River Canyon School
REFRESH-INTERVAL;VALUE=DURATION:PT1H
X-Robots-Tag:noindex
X-PUBLISHED-TTL:PT1H
BEGIN:VTIMEZONE
TZID:UTC
BEGIN:STANDARD
TZOFFSETFROM:+0000
TZOFFSETTO:+0000
TZNAME:UTC
DTSTART:20250101T000000
END:STANDARD
END:VTIMEZONE
BEGIN:VEVENT
DTSTART;VALUE=DATE:20260601
DTEND;VALUE=DATE:20260605
DTSTAMP:20260423T190105
CREATED:20250203T222350Z
LAST-MODIFIED:20250203T222350Z
UID:857-1780272000-1780617599@rivercanyonschool.com
SUMMARY:Potential Summer Camp Dates
DESCRIPTION:
URL:https://rivercanyonschool.com/event/potential-summer-camp-dates/
END:VEVENT
BEGIN:VEVENT
DTSTART;VALUE=DATE:20260608
DTEND;VALUE=DATE:20260613
DTSTAMP:20260423T190105
CREATED:20250203T222432Z
LAST-MODIFIED:20250203T222432Z
UID:859-1780876800-1781308799@rivercanyonschool.com
SUMMARY:Potential Summer Camp Dates
DESCRIPTION:
URL:https://rivercanyonschool.com/event/potential-summer-camp-dates-2/
END:VEVENT
BEGIN:VEVENT
DTSTART;VALUE=DATE:20260615
DTEND;VALUE=DATE:20260620
DTSTAMP:20260423T190105
CREATED:20250203T222459Z
LAST-MODIFIED:20250203T222459Z
UID:861-1781481600-1781913599@rivercanyonschool.com
SUMMARY:Potential Summer Camp Dates
DESCRIPTION:
URL:https://rivercanyonschool.com/event/potential-summer-camp-dates-3/
END:VEVENT
BEGIN:VEVENT
DTSTART;VALUE=DATE:20260622
DTEND;VALUE=DATE:20260627
DTSTAMP:20260423T190105
CREATED:20250203T222524Z
LAST-MODIFIED:20250203T222524Z
UID:863-1782086400-1782518399@rivercanyonschool.com
SUMMARY:Potential Summer Camp Dates
DESCRIPTION:
URL:https://rivercanyonschool.com/event/potential-summer-camp-dates-4/
END:VEVENT
END:VCALENDAR