BEGIN:VCALENDAR
VERSION:2.0
PRODID:-//River Canyon School - ECPv6.15.20//NONSGML v1.0//EN
CALSCALE:GREGORIAN
METHOD:PUBLISH
X-WR-CALNAME:River Canyon School
X-ORIGINAL-URL:https://rivercanyonschool.com
X-WR-CALDESC:Events for River Canyon School
REFRESH-INTERVAL;VALUE=DURATION:PT1H
X-Robots-Tag:noindex
X-PUBLISHED-TTL:PT1H
BEGIN:VTIMEZONE
TZID:UTC
BEGIN:STANDARD
TZOFFSETFROM:+0000
TZOFFSETTO:+0000
TZNAME:UTC
DTSTART:20260101T000000
END:STANDARD
END:VTIMEZONE
BEGIN:VEVENT
DTSTART;VALUE=DATE:20270212
DTEND;VALUE=DATE:20270213
DTSTAMP:20260424T195237
CREATED:20260313T214446Z
LAST-MODIFIED:20260313T214446Z
UID:985-1802390400-1802476799@rivercanyonschool.com
SUMMARY:Teacher Training-No School
DESCRIPTION:
URL:https://rivercanyonschool.com/event/teacher-training-no-school-2/
END:VEVENT
BEGIN:VEVENT
DTSTART;VALUE=DATE:20270215
DTEND;VALUE=DATE:20270216
DTSTAMP:20260424T195237
CREATED:20260313T214511Z
LAST-MODIFIED:20260313T214511Z
UID:987-1802649600-1802735999@rivercanyonschool.com
SUMMARY:Presidents Day-No School
DESCRIPTION:
URL:https://rivercanyonschool.com/event/presidents-day-no-school/
END:VEVENT
END:VCALENDAR