BEGIN:VCALENDAR
VERSION:2.0
PRODID:-//River Canyon School - ECPv6.15.20//NONSGML v1.0//EN
CALSCALE:GREGORIAN
METHOD:PUBLISH
X-WR-CALNAME:River Canyon School
X-ORIGINAL-URL:https://rivercanyonschool.com
X-WR-CALDESC:Events for River Canyon School
REFRESH-INTERVAL;VALUE=DURATION:PT1H
X-Robots-Tag:noindex
X-PUBLISHED-TTL:PT1H
BEGIN:VTIMEZONE
TZID:UTC
BEGIN:STANDARD
TZOFFSETFROM:+0000
TZOFFSETTO:+0000
TZNAME:UTC
DTSTART:20260101T000000
END:STANDARD
END:VTIMEZONE
BEGIN:VEVENT
DTSTART;VALUE=DATE:20270429
DTEND;VALUE=DATE:20270430
DTSTAMP:20260424T231334
CREATED:20260313T215411Z
LAST-MODIFIED:20260313T215411Z
UID:991-1808956800-1809043199@rivercanyonschool.com
SUMMARY:Spring Parent Teacher Conferences-No School
DESCRIPTION:  \n 
URL:https://rivercanyonschool.com/event/spring-parent-teacher-conferences-no-school/
END:VEVENT
BEGIN:VEVENT
DTSTART;VALUE=DATE:20270430
DTEND;VALUE=DATE:20270501
DTSTAMP:20260424T231334
CREATED:20260313T215523Z
LAST-MODIFIED:20260313T215523Z
UID:993-1809043200-1809129599@rivercanyonschool.com
SUMMARY:Teacher Work Day-No School
DESCRIPTION:
URL:https://rivercanyonschool.com/event/teacher-work-day-no-school-6/
END:VEVENT
END:VCALENDAR